BEGIN:VCALENDAR
PRODID:-//Microsoft Corporation//Outlook 16.0 MIMEDIR//EN
VERSION:2.0
METHOD:PUBLISH
X-MS-OLK-FORCEINSPECTOROPEN:TRUE
BEGIN:VTIMEZONE
TZID:W. Europe Standard Time
BEGIN:STANDARD
DTSTART:16011028T030000
RRULE:FREQ=YEARLY;BYDAY=-1SU;BYMONTH=10
TZOFFSETFROM:+0200
TZOFFSETTO:+0100
END:STANDARD
BEGIN:DAYLIGHT
DTSTART:16010325T020000
RRULE:FREQ=YEARLY;BYDAY=-1SU;BYMONTH=3
TZOFFSETFROM:+0100
TZOFFSETTO:+0200
END:DAYLIGHT
END:VTIMEZONE
BEGIN:VEVENT
CLASS:PRIVATE
CREATED:20190524T103047Z
DESCRIPTION:Details und Agenda: https://www.lassalle-institut.org/de/sympos
	ium-2019.html \n\n
DTEND;TZID="W. Europe Standard Time":20191128T210000
DTSTAMP:20190524T095716Z
DTSTART;TZID="W. Europe Standard Time":20191128T170000
LAST-MODIFIED:20190524T103047Z
LOCATION:Lassalle-Institut\, Bad Schönbrunn\, Edlibach bei Zug
PRIORITY:5
SEQUENCE:0
SUMMARY;LANGUAGE=de-ch:Symposium 2019: Einsicht und Weitsicht
TRANSP:OPAQUE
UID:040000008200E00074C5B7101A82E0080000000030F0B7672712D501000000000000000
	0100000008B1231655DB11B43A28B8C2057111475
X-ALT-DESC;FMTTYPE=text/html:<html>\n<head>\n\n<style type="text/css" style
	="display:none\;"><!-- P {margin-top:0\;margin-bottom:0\;} --></style>\n</
	head>\n<body dir="ltr">\n<div id="divtagdefaultwrapper" style="font-size:1
	1pt\;color:#000000\;font-family:Calibri\,Helvetica\,sans-serif\;" dir="ltr
	">\n<p style="margin-top:0\;margin-bottom:0"></p>\nDetails und Agenda:&nbs
	p\;<a href="https://www.lassalle-institut.org/de/symposium-2019.html" clas
	s="OWAAutoLink">https://www.lassalle-institut.org/de/symposium-2019.html</
	a>\n<div class="BodyFragment"><font size="2"><span style="font-size:11pt\;
	">\n<div class="PlainText"><br>\n</div>\n</span></font></div>\n</div>\n</b
	ody>\n</html>\n
X-MICROSOFT-CDO-BUSYSTATUS:BUSY
X-MICROSOFT-CDO-IMPORTANCE:1
X-MICROSOFT-DISALLOW-COUNTER:FALSE
X-MS-OLK-AUTOFILLLOCATION:FALSE
X-MS-OLK-CONFTYPE:0
BEGIN:VALARM
TRIGGER:-PT15M
ACTION:DISPLAY
DESCRIPTION:Reminder
END:VALARM
END:VEVENT
END:VCALENDAR
